BEGIN:VCALENDAR
VERSION:2.0
PRODID:-//ChamberMaster//Event Calendar 2.0//EN
METHOD:PUBLISH
X-PUBLISHED-TTL:P3D
REFRESH-INTERVAL:P3D
CALSCALE:GREGORIAN
BEGIN:VEVENT
DTSTART:20191019T190000Z
DTEND:20191019T230000Z
X-MICROSOFT-CDO-ALLDAYEVENT:FALSE
SUMMARY:Your CBD Store - GRAND OPENING
DESCRIPTION:Join us as we celebrate our Grand Opening!!\n\nMeet all the Staff and Friends!\n\n	Specials\n	Food\n	Entertainment\n	Samples\n	Raffles
X-ALT-DESC;FMTTYPE=text/html:Join us as we celebrate our Grand Opening!!<br />\nMeet all the Staff and Friends!\n<ul>\n	<li>Specials</li>\n	<li>Food</li>\n	<li>Entertainment</li>\n	<li>Samples</li>\n	<li>Raffles</li>\n</ul>\n
LOCATION:
UID:e.1308.13948
SEQUENCE:3
DTSTAMP:20260420T075226Z
URL:https://business.petalumachamber.biz/events/details/your-cbd-store-13948
END:VEVENT

END:VCALENDAR
