BEGIN:VCALENDAR
VERSION:2.0
PRODID:-//ChamberMaster//Event Calendar 2.0//EN
METHOD:PUBLISH
X-PUBLISHED-TTL:P3D
REFRESH-INTERVAL:P3D
CALSCALE:GREGORIAN
BEGIN:VEVENT
DTSTART:20210619T190000Z
DTEND:20210619T230000Z
X-MICROSOFT-CDO-ALLDAYEVENT:FALSE
SUMMARY:Your CBD Store Anniversary Event
DESCRIPTION:Celebrate Your CBD Store Anniversary!\n\n  FREE Stress Ball for 1st 50 Customers\n\n  FREE 250mg Tincture w/ Any Purchase($40 value)\n\n  FREE Samples\n\n  Fun Gifts for the Kids\n\n  Spin for Prizes & Savings\n\n  And much\, much more  .
X-ALT-DESC;FMTTYPE=text/html:<span style="font-size:24px"><em><strong>Celebrate Your CBD Store Anniversary!</strong></em></span><br />\n<span style="color:black"><span style="font-size:10.0pt"><span style="font-family:symbol">&uml\;</span></span></span>&nbsp\;<strong><span style="color:black"><span style="font-family:linux libertine"><span style="font-size:18.0pt">FREE Stress Ball for 1st 50 Customers</span></span></span></strong><br />\n<span style="color:black"><span style="font-size:10.0pt"><span style="font-family:symbol">&uml\;</span></span></span>&nbsp\;<strong><span style="color:black"><span style="font-family:linux libertine"><span style="font-size:18.0pt">FREE 250mg Tincture w/ Any Purchase(</span></span></span></strong><strong><span style="color:black"><span style="font-family:linux libertine"><span style="font-size:14.0pt">$40 value)</span></span></span></strong><br />\n<span style="color:black"><span style="font-size:10.0pt"><span style="font-family:symbol">&uml\;</span></span></span>&nbsp\;<strong><span style="color:black"><span style="font-family:linux libertine"><span style="font-size:18.0pt">FREE Samples</span></span></span></strong><br />\n<span style="color:black"><span style="font-size:10.0pt"><span style="font-family:symbol">&uml\;</span></span></span>&nbsp\;<strong><span style="color:black"><span style="font-family:linux libertine"><span style="font-size:18.0pt">Fun Gifts for the Kids</span></span></span></strong><br />\n<span style="color:black"><span style="font-size:10.0pt"><span style="font-family:symbol">&uml\;</span></span></span>&nbsp\;<strong><span style="color:black"><span style="font-family:linux libertine"><span style="font-size:18.0pt">Spin for Prizes &amp\; Savings</span></span></span></strong><br />\n<span style="color:black"><span style="font-size:10.0pt"><span style="font-family:symbol">&uml\;</span></span></span>&nbsp\;<strong><span style="color:black"><span style="font-family:linux libertine"><span style="font-size:18.0pt">And much\, much more&hellip\;&hellip\;.</span></span></span></strong><br />\n&nbsp\;<br />\n&nbsp\;
LOCATION:
UID:e.1308.14131
SEQUENCE:3
DTSTAMP:20260421T170826Z
URL:https://business.petalumachamber.biz/events/details/your-cbd-store-anniversary-event-14131
END:VEVENT

END:VCALENDAR
